BEGIN:VCALENDAR
VERSION:2.0
PRODID:-//gruender-mv.de//EN
BEGIN:VEVENT
UID:69e61a39e9add@gruender-mv.de
DTSTAMP:20260420T122113Z
DTSTART:20250904T180000
DTEND:20250904T230000
SUMMARY:11. Stammtisch Schwerin
DESCRIPTION:
URL:https://gruender-mv.de/events/11-stammtisch-schwerin/
END:VEVENT
END:VCALENDAR
