BEGIN:VCALENDAR
VERSION:2.0
PRODID:-//gruender-mv.de//EN
BEGIN:VEVENT
UID:69e6191fd8657@gruender-mv.de
DTSTAMP:20260420T121631Z
DTSTART:20250806T160000
DTEND:20250806T180000
SUMMARY:Webseiten Werkstatt im Innoport Wismar
DESCRIPTION:
URL:https://gruender-mv.de/events/webseiten-werkstatt-im-innoport-wismar/
END:VEVENT
END:VCALENDAR
