BEGIN:VCALENDAR
VERSION:2.0
PRODID:-//gruender-mv.de//EN
BEGIN:VEVENT
UID:69e618c0b9d29@gruender-mv.de
DTSTAMP:20260420T121456Z
DTSTART:20250902T091500
DTEND:20250902T091500
SUMMARY:Beratungstag Versicherung 
DESCRIPTION:
URL:https://gruender-mv.de/events/beratungstag-versicherung-10/
END:VEVENT
END:VCALENDAR
