BEGIN:VCALENDAR
VERSION:2.0
PRODID:-//gruender-mv.de//EN
BEGIN:VEVENT
UID:69e619dceaef2@gruender-mv.de
DTSTAMP:20260420T121940Z
DTSTART:20250909T091500
DTEND:20250909T151500
SUMMARY:Beratungstag Finanzierung
DESCRIPTION:
URL:https://gruender-mv.de/events/beratungstag-finanzierung-12/
END:VEVENT
END:VCALENDAR
