BEGIN:VCALENDAR
VERSION:2.0
PRODID:-//gruender-mv.de//EN
BEGIN:VEVENT
UID:69e619de01998@gruender-mv.de
DTSTAMP:20260420T121942Z
DTSTART:20250909T120000
DTEND:20250909T123000
SUMMARY:Lunchtalk #4 mit Martin French
DESCRIPTION:
URL:https://gruender-mv.de/events/lunchtalk-4-mit-martin-french/
END:VEVENT
END:VCALENDAR
