BEGIN:VCALENDAR
VERSION:2.0
PRODID:-//gruender-mv.de//EN
BEGIN:VEVENT
UID:69e4dac9f05b2@gruender-mv.de
DTSTAMP:20260419T133817Z
DTSTART:20250923T180000
DTEND:20250925T161500
SUMMARY:Coworking Festival MV​ in Lietzow
DESCRIPTION:
URL:https://gruender-mv.de/events/coworking-festival-mv-2/
END:VEVENT
END:VCALENDAR
