BEGIN:VCALENDAR
VERSION:2.0
PRODID:-//gruender-mv.de//EN
BEGIN:VEVENT
UID:69e61a39bd70b@gruender-mv.de
DTSTAMP:20260420T122113Z
DTSTART:20250820T083000
DTEND:20250820T093000
SUMMARY:Business Women Walk im August
DESCRIPTION:
URL:https://gruender-mv.de/events/business-women-walk-im-august/
END:VEVENT
END:VCALENDAR
