BEGIN:VCALENDAR
VERSION:2.0
PRODID:-//gruender-mv.de//EN
BEGIN:VEVENT
UID:69e619db6fb1c@gruender-mv.de
DTSTAMP:20260420T121939Z
DTSTART:20250930T100000
DTEND:20250930T160000
SUMMARY:Regionale Innovationskonferenz – Luft- und Raumfahrt neu gedacht
DESCRIPTION:
URL:https://gruender-mv.de/events/regionale-innovationskonferenz-luft-und-raumfahrt-neu-gedacht/
END:VEVENT
END:VCALENDAR
