BEGIN:VCALENDAR
VERSION:2.0
PRODID:-//gruender-mv.de//EN
BEGIN:VEVENT
UID:69e5286bf3752@gruender-mv.de
DTSTAMP:20260419T190931Z
DTSTART:20250925T140000
DTEND:20250925T170000
SUMMARY:Praxiswissen, Impulse und Networking für Gründer:innen und Nachfolger:innen
DESCRIPTION:
URL:https://gruender-mv.de/events/praxiswissen-impulse-und-networking-fuer-gruenderinnen-und-nachfolgerinnen/
END:VEVENT
END:VCALENDAR
