BEGIN:VCALENDAR
VERSION:2.0
PRODID:-//gruender-mv.de//EN
BEGIN:VEVENT
UID:69e619db08c0c@gruender-mv.de
DTSTAMP:20260420T121939Z
DTSTART:20251006T100000
DTEND:20251010T110000
SUMMARY:Webinarreihe „UnternehmensCheckup – Unternehmerische Zukunft gestalten“ vom 6. bis 10. Oktober 2025
DESCRIPTION:
URL:https://gruender-mv.de/events/webinarreihe-unternehmenscheckup-unternehmerische-zukunft-gestalten-vom-6-bis-10-oktober-2025/
END:VEVENT
END:VCALENDAR
