BEGIN:VCALENDAR
VERSION:2.0
PRODID:-//gruender-mv.de//EN
BEGIN:VEVENT
UID:69e4d89499fab@gruender-mv.de
DTSTAMP:20260419T132852Z
DTSTART:20251023T160000
DTEND:20251023T180000
SUMMARY:IHK im BiZ: Erfolgreiches Marketing für Existenzgründer
DESCRIPTION:
URL:https://gruender-mv.de/events/ihk-im-biz-erfolgreiches-marketing-fuer-existenzgruender-3/
END:VEVENT
END:VCALENDAR
