BEGIN:VCALENDAR
VERSION:2.0
PRODID:-//gruender-mv.de//EN
BEGIN:VEVENT
UID:69e520f9e92da@gruender-mv.de
DTSTAMP:20260419T183745Z
DTSTART:20251028T090000
DTEND:20251028T160000
SUMMARY:Beratungstag Unternehmensnachfolge der IHK Rostock
DESCRIPTION:
URL:https://gruender-mv.de/events/beratungstag-unternehmensnachfolge-der-ihk-rostock/
END:VEVENT
END:VCALENDAR
