BEGIN:VCALENDAR
VERSION:2.0
PRODID:-//gruender-mv.de//EN
BEGIN:VEVENT
UID:69e4d97f44c39@gruender-mv.de
DTSTAMP:20260419T133247Z
DTSTART:20250903T190000
DTEND:20250903T203000
SUMMARY:Unternehmerstammtisch von Frauen in die Wirtschaft e.V.
DESCRIPTION:
URL:https://gruender-mv.de/events/unternehmerstammtisch-von-frauen-in-die-wirtschaft-e-v/
END:VEVENT
END:VCALENDAR
