BEGIN:VCALENDAR
VERSION:2.0
PRODID:-//gruender-mv.de//EN
BEGIN:VEVENT
UID:69e619db02e86@gruender-mv.de
DTSTAMP:20260420T121939Z
DTSTART:20251023T160000
DTEND:20251023T180000
SUMMARY:Workshop: „Canva – Social Media Content leicht erstellen“
DESCRIPTION:
URL:https://gruender-mv.de/events/workshop-canva-social-media-content-leicht-erstellen/
END:VEVENT
END:VCALENDAR
