BEGIN:VCALENDAR
VERSION:2.0
PRODID:-//gruender-mv.de//EN
BEGIN:VEVENT
UID:69e606148e514@gruender-mv.de
DTSTAMP:20260420T105516Z
DTSTART:20251021T120000
DTEND:20251021T130000
SUMMARY:Onboarding Call: Einstieg in Künstliche Intelligenz für Gründer*innen
DESCRIPTION:
URL:https://gruender-mv.de/events/onboarding-call-einstieg-in-kuenstliche-intelligenz-fuer-gruenderinnen-2/
END:VEVENT
END:VCALENDAR
