BEGIN:VCALENDAR
VERSION:2.0
PRODID:-//gruender-mv.de//EN
BEGIN:VEVENT
UID:69e619dc83a57@gruender-mv.de
DTSTAMP:20260420T121940Z
DTSTART:20250924T180000
DTEND:20250924T200000
SUMMARY:Digitalstammtisch: IT-Sicherheit
DESCRIPTION:
URL:https://gruender-mv.de/events/digitalstammtisch-it-sicherheit/
END:VEVENT
END:VCALENDAR
