BEGIN:VCALENDAR
VERSION:2.0
PRODID:-//gruender-mv.de//EN
BEGIN:VEVENT
UID:69e4d9223a9da@gruender-mv.de
DTSTAMP:20260419T133114Z
DTSTART:20251106T173000
DTEND:20251106T230000
SUMMARY:HGW-AI: Die KI-Community in Greifswald - #4
DESCRIPTION:
URL:https://gruender-mv.de/events/hgw-ai-die-ki-community-in-greifswald-4/
END:VEVENT
END:VCALENDAR
