BEGIN:VCALENDAR
VERSION:2.0
PRODID:-//gruender-mv.de//EN
BEGIN:VEVENT
UID:69e4d904a3e43@gruender-mv.de
DTSTAMP:20260419T133044Z
DTSTART:20251105T090000
DTEND:20251105T160000
SUMMARY:Finanzierungssprechtag November 2025
DESCRIPTION:
URL:https://gruender-mv.de/events/finanzierungssprechtag-november-2025/
END:VEVENT
END:VCALENDAR
