BEGIN:VCALENDAR
VERSION:2.0
PRODID:-//gruender-mv.de//EN
BEGIN:VEVENT
UID:69e6083c84bf9@gruender-mv.de
DTSTAMP:20260420T110428Z
DTSTART:20251126T100000
DTEND:20251126T150000
SUMMARY:KI im Betrieb – Rechtliche Leitplanken und Impulse für Führung und Zusammenarbeit
DESCRIPTION:
URL:https://gruender-mv.de/events/ki-im-betrieb-rechtliche-leitplanken-und-impulse-fuer-fuehrung-und-zusammenarbeit/
END:VEVENT
END:VCALENDAR
