BEGIN:VCALENDAR
VERSION:2.0
PRODID:-//gruender-mv.de//EN
BEGIN:VEVENT
UID:69e4d9e415b29@gruender-mv.de
DTSTAMP:20260419T133428Z
DTSTART:20251113T170000
DTEND:20251113T190000
SUMMARY:HGWomen - Einmal in den Bundestag und zurück 
DESCRIPTION:
URL:https://gruender-mv.de/events/hgwomen-einmal-in-den-bundestag-und-zurueck/
END:VEVENT
END:VCALENDAR
