BEGIN:VCALENDAR
VERSION:2.0
PRODID:-//gruender-mv.de//EN
BEGIN:VEVENT
UID:69e4da81ad502@gruender-mv.de
DTSTAMP:20260419T133705Z
DTSTART:20251014T183000
DTEND:20251014T213000
SUMMARY:KI werk SN – 3. Netzwerktreffen
DESCRIPTION:
URL:https://gruender-mv.de/events/ki-werk-sn-3-netzwerktreffen/
END:VEVENT
END:VCALENDAR
