BEGIN:VCALENDAR
VERSION:2.0
PRODID:-//gruender-mv.de//EN
BEGIN:VEVENT
UID:69e4d9e3364df@gruender-mv.de
DTSTAMP:20260419T133427Z
DTSTART:20251111T090000
DTEND:20251111T110000
SUMMARY:Morgenstund – Fördermittel für innovative Gründungen
DESCRIPTION:
URL:https://gruender-mv.de/events/morgenstund-foerdermittel-fuer-innovative-gruendungen/
END:VEVENT
END:VCALENDAR
