BEGIN:VCALENDAR
VERSION:2.0
PRODID:-//gruender-mv.de//EN
BEGIN:VEVENT
UID:69e61a02554ab@gruender-mv.de
DTSTAMP:20260420T122018Z
DTSTART:20251112T120000
DTEND:20251112T130000
SUMMARY:SNACK IT: Die Big 4 der Online-Sichtbarkeit
DESCRIPTION:
URL:https://gruender-mv.de/events/snack-it-die-big-4-der-online-sichtbarkeit/
END:VEVENT
END:VCALENDAR
