BEGIN:VCALENDAR
VERSION:2.0
PRODID:-//gruender-mv.de//EN
BEGIN:VEVENT
UID:69e619db11672@gruender-mv.de
DTSTAMP:20260420T121939Z
DTSTART:20251120T140000
DTEND:20251120T160000
SUMMARY:Komm, laber mich voll! - Social Media Marketing Event
DESCRIPTION:
URL:https://gruender-mv.de/events/komm-laber-mich-voll-social-media-marketing-event/
END:VEVENT
END:VCALENDAR
