BEGIN:VCALENDAR
VERSION:2.0
PRODID:-//gruender-mv.de//EN
BEGIN:VEVENT
UID:69e4d9e0646e2@gruender-mv.de
DTSTAMP:20260419T133424Z
DTSTART:20251119T090000
DTEND:20251119T120000
SUMMARY:Gründungsworkshop 3: Finanzierung &amp; Förderung
DESCRIPTION:
URL:https://gruender-mv.de/events/gruendungsworkshop-3-finanzierung-foerderung/
END:VEVENT
END:VCALENDAR
