BEGIN:VCALENDAR
VERSION:2.0
PRODID:-//gruender-mv.de//EN
BEGIN:VEVENT
UID:69e619d12edc1@gruender-mv.de
DTSTAMP:20260420T121929Z
DTSTART:20251203T170000
DTEND:20251203T190000
SUMMARY:HGWomen – Jahresausklang &amp; Ausblick
DESCRIPTION:
URL:https://gruender-mv.de/events/hgwomen-jahresausklang-ausblick/
END:VEVENT
END:VCALENDAR
