BEGIN:VCALENDAR
VERSION:2.0
PRODID:-//gruender-mv.de//EN
BEGIN:VEVENT
UID:69e601ac18999@gruender-mv.de
DTSTAMP:20260420T103628Z
DTSTART:20260109T100000
DTEND:20260109T120000
SUMMARY:Workshop: Künstliche Intelligenz – Unterstützung im Alltag und Beruf
DESCRIPTION:
URL:https://gruender-mv.de/events/workshop-kuenstliche-intelligenz-unterstuetzung-im-alltag-und-beruf-2/
END:VEVENT
END:VCALENDAR
