BEGIN:VCALENDAR
VERSION:2.0
PRODID:-//gruender-mv.de//EN
BEGIN:VEVENT
UID:69e5408a5a8f0@gruender-mv.de
DTSTAMP:20260419T205226Z
DTSTART:20260205T090000
DTEND:20260205T160000
SUMMARY:Finanzierungssprechtag Greifswald Februar 2026
DESCRIPTION:
URL:https://gruender-mv.de/events/finanzierungssprechtag-greifswald-februar-2026/
END:VEVENT
END:VCALENDAR
