BEGIN:VCALENDAR
VERSION:2.0
PRODID:-//gruender-mv.de//EN
BEGIN:VEVENT
UID:69e61a039af3b@gruender-mv.de
DTSTAMP:20260420T122019Z
DTSTART:20260304T190000
DTEND:20260304T203000
SUMMARY:Unternehmerstammtisch von Frauen in die Wirtschaft e.V.
DESCRIPTION:
URL:https://gruender-mv.de/events/unternehmerstammtisch-von-frauen-in-die-wirtschaft-e-v-2/
END:VEVENT
END:VCALENDAR
