BEGIN:VCALENDAR
VERSION:2.0
PRODID:-//gruender-mv.de//EN
BEGIN:VEVENT
UID:69e5212a6ede7@gruender-mv.de
DTSTAMP:20260419T183834Z
DTSTART:20260311T110000
DTEND:20260311T120000
SUMMARY:Momentum – GründungsSprechstunde
DESCRIPTION:
URL:https://gruender-mv.de/events/momentum-gruendungssprechstunde-3/
END:VEVENT
END:VCALENDAR
