BEGIN:VCALENDAR
VERSION:2.0
PRODID:-//gruender-mv.de//EN
BEGIN:VEVENT
UID:69e6317754fbf@gruender-mv.de
DTSTAMP:20260420T140023Z
DTSTART:20260224T170000
DTEND:20260224T200000
SUMMARY:VRauen – Wie KI die Welt verändert und was du jetzt tun kannst
DESCRIPTION:
URL:https://gruender-mv.de/events/vrauen-wie-ki-die-welt-veraendert-und-was-du-jetzt-tun-kannst/
END:VEVENT
END:VCALENDAR
