BEGIN:VCALENDAR
VERSION:2.0
PRODID:-//gruender-mv.de//EN
BEGIN:VEVENT
UID:69e5286ce8208@gruender-mv.de
DTSTAMP:20260419T190932Z
DTSTART:20260325T140000
DTEND:20260325T150000
SUMMARY:Digital.Kompetenz: Organische Social-Media-Aktivitäten &amp; neue Plattformen 
DESCRIPTION:
URL:https://gruender-mv.de/events/digital-kompetenz-organische-social-media-aktivitaeten-neue-plattformen/
END:VEVENT
END:VCALENDAR
