BEGIN:VCALENDAR
VERSION:2.0
PRODID:-//gruender-mv.de//EN
BEGIN:VEVENT
UID:69e618c4970e8@gruender-mv.de
DTSTAMP:20260420T121500Z
DTSTART:20260305T090000
DTEND:20260305T120000
SUMMARY:D!G!TALTALK-Die Unternehmersprechstunde in Pasewalk
DESCRIPTION:
URL:https://gruender-mv.de/events/dgtaltalk-die-unternehmersprechstunde-in-pasewalk/
END:VEVENT
END:VCALENDAR
