BEGIN:VCALENDAR
VERSION:2.0
PRODID:-//gruender-mv.de//EN
BEGIN:VEVENT
UID:69e54606ec011@gruender-mv.de
DTSTAMP:20260419T211550Z
DTSTART:20260610T170000
DTEND:20260610T220000
SUMMARY:Ship to Business 2026 - Himmel der Möwen 
DESCRIPTION:
URL:https://gruender-mv.de/events/ship-to-business-2026-himmel-der-moewen/
END:VEVENT
END:VCALENDAR
