BEGIN:VCALENDAR
VERSION:2.0
PRODID:-//gruender-mv.de//EN
BEGIN:VEVENT
UID:69e51d4295d6a@gruender-mv.de
DTSTAMP:20260419T182154Z
DTSTART:20260319T090000
DTEND:20260319T120000
SUMMARY:D!G!TALTALK-Die Unternehmersprechstunde in Jarmen
DESCRIPTION:
URL:https://gruender-mv.de/events/dgtaltalk-die-unternehmersprechstunde-in-jarmen-2/
END:VEVENT
END:VCALENDAR
