BEGIN:VCALENDAR
VERSION:2.0
PRODID:-//gruender-mv.de//EN
BEGIN:VEVENT
UID:69e51c9c27c52@gruender-mv.de
DTSTAMP:20260419T181908Z
DTSTART:20260311T100000
DTEND:20260311T160000
SUMMARY:Sprechtag Unternehmensnachfolge März 2026 Neubrandenburg
DESCRIPTION:
URL:https://gruender-mv.de/events/sprechtag-unternehmensnachfolge-maerz-2026-neubrandenburg/
END:VEVENT
END:VCALENDAR
