BEGIN:VCALENDAR
VERSION:2.0
PRODID:-//gruender-mv.de//EN
BEGIN:VEVENT
UID:69e51d431a117@gruender-mv.de
DTSTAMP:20260419T182155Z
DTSTART:20260311T100000
DTEND:20260311T120000
SUMMARY:IHK-Innovationssprechtag März 2026
DESCRIPTION:
URL:https://gruender-mv.de/events/ihk-innovationssprechtag-maerz-2026/
END:VEVENT
END:VCALENDAR
