BEGIN:VCALENDAR
VERSION:2.0
PRODID:-//gruender-mv.de//EN
BEGIN:VEVENT
UID:69e4d89458827@gruender-mv.de
DTSTAMP:20260419T132852Z
DTSTART:20260318T173000
DTEND:20260318T220000
SUMMARY:1. Stammtisch Herzogtum Lauenburg
DESCRIPTION:
URL:https://gruender-mv.de/events/1-stammtisch-herzogtum-lauenburg/
END:VEVENT
END:VCALENDAR
