BEGIN:VCALENDAR
VERSION:2.0
PRODID:-//gruender-mv.de//EN
BEGIN:VEVENT
UID:69e4d88c960d1@gruender-mv.de
DTSTAMP:20260419T132844Z
DTSTART:20260225T090000
DTEND:20260225T150000
SUMMARY:MSEaustausch – Sprechtag Finanzierung, Förderung, Nachfolge
DESCRIPTION:
URL:https://gruender-mv.de/events/mseaustausch-sprechtag-finanzierung-foerderung-nachfolge-5/
END:VEVENT
END:VCALENDAR
