BEGIN:VCALENDAR
VERSION:2.0
PRODID:-//gruender-mv.de//EN
BEGIN:VEVENT
UID:69e4d828a9a02@gruender-mv.de
DTSTAMP:20260419T132704Z
DTSTART:20260304T090000
DTEND:20260304T094500
SUMMARY:Kostenloses Webinar zu Förderungen von Kleinstunternehmen im ländlichen Raum
DESCRIPTION:
URL:https://gruender-mv.de/events/kostenloses-webinar-zu-foerderungen-von-kleinstunternehmen-im-laendlichen-raum/
END:VEVENT
END:VCALENDAR
