BEGIN:VCALENDAR
VERSION:2.0
PRODID:-//gruender-mv.de//EN
BEGIN:VEVENT
UID:69e4da4bc82b8@gruender-mv.de
DTSTAMP:20260419T133611Z
DTSTART:20260326T083000
DTEND:20260326T163000
SUMMARY:2. KI Konferenz: Wo KI Wert schafft
DESCRIPTION:
URL:https://gruender-mv.de/events/2-ki-konferenz-wo-ki-wert-schafft/
END:VEVENT
END:VCALENDAR
