BEGIN:VCALENDAR
VERSION:2.0
PRODID:-//gruender-mv.de//EN
BEGIN:VEVENT
UID:69e4d8292ef29@gruender-mv.de
DTSTAMP:20260419T132705Z
DTSTART:20260224T123000
DTEND:20260224T170000
SUMMARY:Wissenschaft trifft Wirtschaft 2026 – Pitch &amp; Matching Event
DESCRIPTION:
URL:https://gruender-mv.de/events/wissenschaft-trifft-wirtschaft-2026-pitch-matching-event/
END:VEVENT
END:VCALENDAR
