BEGIN:VCALENDAR
VERSION:2.0
PRODID:-//gruender-mv.de//EN
BEGIN:VEVENT
UID:69e619d01891a@gruender-mv.de
DTSTAMP:20260420T121928Z
DTSTART:20260304T170000
DTEND:20260304T210000
SUMMARY:Fly &amp; Surv – Jahresauftakt 2026
DESCRIPTION:
URL:https://gruender-mv.de/events/fly-surv-jahresauftakt-2026/
END:VEVENT
END:VCALENDAR
