BEGIN:VCALENDAR
VERSION:2.0
PRODID:-//gruender-mv.de//EN
BEGIN:VEVENT
UID:69e8a6ce786e2@gruender-mv.de
DTSTAMP:20260422T104534Z
DTSTART:20260305T080000
DTEND:20260305T170000
SUMMARY:ESA BIC Northern Germany – Infoveranstaltung für Startups und Innovator:innen
DESCRIPTION:
URL:https://gruender-mv.de/events/esa-bic-northern-germany-infoveranstaltung-fuer-startups-und-innovatorinnen/
END:VEVENT
END:VCALENDAR
