BEGIN:VCALENDAR
VERSION:2.0
PRODID:-//gruender-mv.de//EN
BEGIN:VEVENT
UID:69e4d902471a7@gruender-mv.de
DTSTAMP:20260419T133042Z
DTSTART:20260317T090000
DTEND:20260317T120000
SUMMARY:Gründungsworkshop I: Kennenlernen, Methoden &amp; Persona
DESCRIPTION:
URL:https://gruender-mv.de/events/gruendungsworkshop-i/
END:VEVENT
END:VCALENDAR
