BEGIN:VCALENDAR
VERSION:2.0
PRODID:-//gruender-mv.de//EN
BEGIN:VEVENT
UID:69e619cf92404@gruender-mv.de
DTSTAMP:20260420T121927Z
DTSTART:20260325T090000
DTEND:20260325T120000
SUMMARY:Gründungsworkshop II – Teste dein Geschäftsmodell
DESCRIPTION:
URL:https://gruender-mv.de/events/gruendungsworkshop-ii-teste-dein-geschaeftsmodell/
END:VEVENT
END:VCALENDAR
