BEGIN:VCALENDAR
VERSION:2.0
PRODID:-//gruender-mv.de//EN
BEGIN:VEVENT
UID:69e4d97fbb98c@gruender-mv.de
DTSTAMP:20260419T133247Z
DTSTART:20260325T170000
DTEND:20260325T200000
SUMMARY:Webseiten-Werkstatt im InnovationPort Wismar
DESCRIPTION:
URL:https://gruender-mv.de/events/webseiten-werkstatt-im-innovationport-wismar-2/
END:VEVENT
END:VCALENDAR
