BEGIN:VCALENDAR
VERSION:2.0
PRODID:-//gruender-mv.de//EN
BEGIN:VEVENT
UID:69e619209610c@gruender-mv.de
DTSTAMP:20260420T121632Z
DTSTART:20260312T120000
DTEND:20260312T140000
SUMMARY:BITS &amp; MATJES: E-Rechnungen sicher und rechtskonform
DESCRIPTION:
URL:https://gruender-mv.de/events/bits-matjes-e-rechnungen-sicher-und-rechtskonform-2/
END:VEVENT
END:VCALENDAR
