BEGIN:VCALENDAR
VERSION:2.0
PRODID:-//gruender-mv.de//EN
BEGIN:VEVENT
UID:69e4d90442c1d@gruender-mv.de
DTSTAMP:20260419T133044Z
DTSTART:20260326T110000
DTEND:20260326T120000
SUMMARY:Die Klugscheißerinnen - Feedback für deinen Instagram-Kanal
DESCRIPTION:
URL:https://gruender-mv.de/events/die-klugscheisserinnen-feedback-fuer-deinen-instagram-kanal-2/
END:VEVENT
END:VCALENDAR
