BEGIN:VCALENDAR
VERSION:2.0
PRODID:-//gruender-mv.de//EN
BEGIN:VEVENT
UID:69e4d82adfc7e@gruender-mv.de
DTSTAMP:20260419T132706Z
DTSTART:20260416T100000
DTEND:20260416T170000
SUMMARY:3. Baltic Sea Business Day
DESCRIPTION:
URL:https://gruender-mv.de/events/3-baltic-sea-business-day/
END:VEVENT
END:VCALENDAR
